BEGIN:VCALENDAR
PRODID:-//github.com/rianjs/ical.net//NONSGML ical.net 4.0//EN
VERSION:2.0
BEGIN:VEVENT
DESCRIPTION:2006 Annual Meeting by the American Academy of Neurology\n\nTi
 tle: HIV Infection and Prion Diseases\n\nAccess URL: https://www.aan.com/
 msa/Public/Events/GetEventURL/817\n\nLearn More About This Event: https:/
 /www.aan.com/msa/Public/Events/Details/817
DTEND:20060405T170000
DTSTAMP:20260424T122153Z
DTSTART:20060405T154500
LOCATION:https://www.aan.com/msa/Public/Events/GetEventURL/817
SEQUENCE:0
SUMMARY:AAN: HIV Infection and Prion Diseases
UID:70b30e6d-af7d-446d-b973-5d6e70e678dc
END:VEVENT
END:VCALENDAR
