BEGIN:VCALENDAR
PRODID:-//github.com/rianjs/ical.net//NONSGML ical.net 4.0//EN
VERSION:2.0
BEGIN:VEVENT
DESCRIPTION:2006 Annual Meeting by the American Academy of Neurology\n\nTi
 tle: Autonomic Disorders\n\nAccess URL: https://www.aan.com/msa/Public/Ev
 ents/GetEventURL/818\n\nLearn More About This Event: https://www.aan.com/
 msa/Public/Events/Details/818
DTEND:20060404T170000
DTSTAMP:20260424T122017Z
DTSTART:20060404T154500
LOCATION:https://www.aan.com/msa/Public/Events/GetEventURL/818
SEQUENCE:0
SUMMARY:AAN: Autonomic Disorders
UID:1bc3855f-743f-4147-a9f6-672ff985e19b
END:VEVENT
END:VCALENDAR
