BEGIN:VCALENDAR
PRODID:-//github.com/rianjs/ical.net//NONSGML ical.net 4.0//EN
VERSION:2.0
BEGIN:VTIMEZONE
TZID:Eastern Standard Time
X-LIC-LOCATION:America/New_York
BEGIN:STANDARD
DTSTART:20241103T020000
RRULE:FREQ=YEARLY;BYDAY=1SU;BYMONTH=11
TZNAME:EST
TZOFFSETFROM:-0400
TZOFFSETTO:-0500
END:STANDARD
BEGIN:DAYLIGHT
DTSTART:20250309T020000
RRULE:FREQ=YEARLY;BYDAY=2SU;BYMONTH=3
TZNAME:EDT
TZOFFSETFROM:-0500
TZOFFSETTO:-0400
END:DAYLIGHT
END:VTIMEZONE
BEGIN:VEVENT
DESCRIPTION:2019 Annual Meeting by the American Academy of Neurology\n\nTi
 tle: Child Neurology Foundation Transition of Care Engagement Event\n\nDe
 scription: Child Neurology Foundation engagement event to discuss transit
 ion from pediatric to adult health care.\n\nLearn More About This Event: 
 https://www.aan.com/msa/Public/Events/Details/8191
DTEND;TZID=Eastern Standard Time:20190508T180000
DTSTAMP:20260424T053925Z
DTSTART;TZID=Eastern Standard Time:20190508T160000
LOCATION:https://www.aan.com/msa/Public/Events/GetEventURL/8191
SEQUENCE:0
SUMMARY:AAN: Child Neurology Foundation Transition of Care Engagement Event
UID:18a4282c-b19b-4274-a1b9-7b2d43288ac4
END:VEVENT
END:VCALENDAR
