BEGIN:VCALENDAR
PRODID:-//github.com/rianjs/ical.net//NONSGML ical.net 4.0//EN
VERSION:2.0
BEGIN:VEVENT
DESCRIPTION:2016 Fall Conference by the American Academy of Neurology\n\nT
 itle: Continuum: Test Your Knowledge: A Multiple Choice Question Review\n
 \nAccess URL: https://www.aan.com/msa/Public/Events/GetEventURL/82\n\nLea
 rn More About This Event: https://www.aan.com/msa/Public/Events/Details/8
 2
DTEND:20161015T170000
DTSTAMP:20260424T053926Z
DTSTART:20161015T130000
LOCATION:https://www.aan.com/msa/Public/Events/GetEventURL/82
SEQUENCE:0
SUMMARY:AAN: Continuum: Test Your Knowledge: A Multiple Choice Question Re
 view
UID:0545591f-aa17-4e9c-ba98-cb0df3af3f97
END:VEVENT
END:VCALENDAR
