BEGIN:VCALENDAR
PRODID:-//github.com/rianjs/ical.net//NONSGML ical.net 4.0//EN
VERSION:2.0
BEGIN:VTIMEZONE
TZID:Eastern Standard Time
X-LIC-LOCATION:America/New_York
BEGIN:STANDARD
DTSTART:20241103T020000
RRULE:FREQ=YEARLY;BYDAY=1SU;BYMONTH=11
TZNAME:EST
TZOFFSETFROM:-0400
TZOFFSETTO:-0500
END:STANDARD
BEGIN:DAYLIGHT
DTSTART:20250309T020000
RRULE:FREQ=YEARLY;BYDAY=2SU;BYMONTH=3
TZNAME:EDT
TZOFFSETFROM:-0500
TZOFFSETTO:-0400
END:DAYLIGHT
END:VTIMEZONE
BEGIN:VEVENT
DESCRIPTION:2019 Annual Meeting by the American Academy of Neurology\n\nTi
 tle: Tips to Sail Through the IRB\n\nAccess URL: https://www.aan.com/msa/
 Public/Events/GetEventURL/8205\n\nLearn More About This Event: https://ww
 w.aan.com/msa/Public/Events/Details/8205
DTEND;TZID=Eastern Standard Time:20190506T073000
DTSTAMP:20260424T053959Z
DTSTART;TZID=Eastern Standard Time:20190506T070000
LOCATION:https://www.aan.com/msa/Public/Events/GetEventURL/8205
SEQUENCE:0
SUMMARY:AAN: Tips to Sail Through the IRB
UID:d8a98b7c-5f32-4d0f-9d9a-fbc1aa4fff50
END:VEVENT
END:VCALENDAR
