BEGIN:VCALENDAR
PRODID:-//github.com/rianjs/ical.net//NONSGML ical.net 4.0//EN
VERSION:2.0
BEGIN:VEVENT
DESCRIPTION:2006 Annual Meeting by the American Academy of Neurology\n\nTi
 tle: Aging and Dementia: Epidemiology\n\nAccess URL: https://www.aan.com/
 msa/Public/Events/GetEventURL/821\n\nLearn More About This Event: https:/
 /www.aan.com/msa/Public/Events/Details/821
DTEND:20060406T153000
DTSTAMP:20260424T122033Z
DTSTART:20060406T133000
LOCATION:https://www.aan.com/msa/Public/Events/GetEventURL/821
SEQUENCE:0
SUMMARY:AAN: Aging and Dementia: Epidemiology
UID:127ad092-f3e7-447e-a4fe-640e22386951
END:VEVENT
END:VCALENDAR
