BEGIN:VCALENDAR
PRODID:-//github.com/rianjs/ical.net//NONSGML ical.net 4.0//EN
VERSION:2.0
BEGIN:VTIMEZONE
TZID:Eastern Standard Time
X-LIC-LOCATION:America/New_York
BEGIN:STANDARD
DTSTART:20241103T020000
RRULE:FREQ=YEARLY;BYDAY=1SU;BYMONTH=11
TZNAME:EST
TZOFFSETFROM:-0400
TZOFFSETTO:-0500
END:STANDARD
BEGIN:DAYLIGHT
DTSTART:20250309T020000
RRULE:FREQ=YEARLY;BYDAY=2SU;BYMONTH=3
TZNAME:EDT
TZOFFSETFROM:-0500
TZOFFSETTO:-0400
END:DAYLIGHT
END:VTIMEZONE
BEGIN:VEVENT
DESCRIPTION:2019 Annual Meeting by the American Academy of Neurology\n\nTi
 tle: University of Virginia Neurology Alumni Reunion\n\nDescription: The 
 University of Virginia Department of Neurology would like to host a reuni
 on for its alumni.\n\nLearn More About This Event: https://www.aan.com/ms
 a/Public/Events/Details/8236
DTEND;TZID=Eastern Standard Time:20190507T210000
DTSTAMP:20260424T053924Z
DTSTART;TZID=Eastern Standard Time:20190507T190000
LOCATION:https://www.aan.com/msa/Public/Events/GetEventURL/8236
SEQUENCE:0
SUMMARY:AAN: University of Virginia Neurology Alumni Reunion
UID:369f98c1-0bbc-4b0b-8702-1681b5b9e54c
END:VEVENT
END:VCALENDAR
