BEGIN:VCALENDAR
PRODID:-//github.com/rianjs/ical.net//NONSGML ical.net 4.0//EN
VERSION:2.0
BEGIN:VEVENT
DESCRIPTION:2006 Annual Meeting by the American Academy of Neurology\n\nTi
 tle: Predictors of Stroke Outcomes\n\nAccess URL: https://www.aan.com/msa
 /Public/Events/GetEventURL/824\n\nLearn More About This Event: https://ww
 w.aan.com/msa/Public/Events/Details/824
DTEND:20060406T153000
DTSTAMP:20260424T122114Z
DTSTART:20060406T133000
LOCATION:https://www.aan.com/msa/Public/Events/GetEventURL/824
SEQUENCE:0
SUMMARY:AAN: Predictors of Stroke Outcomes
UID:69ecc646-e8cd-42b4-8a4e-6971a6844489
END:VEVENT
END:VCALENDAR
