BEGIN:VCALENDAR
PRODID:-//github.com/rianjs/ical.net//NONSGML ical.net 4.0//EN
VERSION:2.0
BEGIN:VEVENT
DESCRIPTION:2006 Annual Meeting by the American Academy of Neurology\n\nTi
 tle: Neuroepidemiology\n\nAccess URL: https://www.aan.com/msa/Public/Even
 ts/GetEventURL/825\n\nLearn More About This Event: https://www.aan.com/ms
 a/Public/Events/Details/825
DTEND:20060406T153000
DTSTAMP:20260424T121916Z
DTSTART:20060406T133000
LOCATION:https://www.aan.com/msa/Public/Events/GetEventURL/825
SEQUENCE:0
SUMMARY:AAN: Neuroepidemiology
UID:6cb4c71b-f5bc-41fb-b55d-eeac3561e56b
END:VEVENT
END:VCALENDAR
