BEGIN:VCALENDAR
PRODID:-//github.com/rianjs/ical.net//NONSGML ical.net 4.0//EN
VERSION:2.0
BEGIN:VEVENT
DESCRIPTION:2006 Annual Meeting by the American Academy of Neurology\n\nTi
 tle: Muscle Disease: Genetic and Inflammatory Muscle Disease\n\nAccess UR
 L: https://www.aan.com/msa/Public/Events/GetEventURL/826\n\nLearn More Ab
 out This Event: https://www.aan.com/msa/Public/Events/Details/826
DTEND:20060406T153000
DTSTAMP:20260424T122115Z
DTSTART:20060406T133000
LOCATION:https://www.aan.com/msa/Public/Events/GetEventURL/826
SEQUENCE:0
SUMMARY:AAN: Muscle Disease: Genetic and Inflammatory Muscle Disease
UID:b0ed6949-7113-41db-bb2b-c9c857668981
END:VEVENT
END:VCALENDAR
