BEGIN:VCALENDAR
PRODID:-//github.com/rianjs/ical.net//NONSGML ical.net 4.0//EN
VERSION:2.0
BEGIN:VTIMEZONE
TZID:Eastern Standard Time
X-LIC-LOCATION:America/New_York
BEGIN:STANDARD
DTSTART:20241103T020000
RRULE:FREQ=YEARLY;BYDAY=1SU;BYMONTH=11
TZNAME:EST
TZOFFSETFROM:-0400
TZOFFSETTO:-0500
END:STANDARD
BEGIN:DAYLIGHT
DTSTART:20250309T020000
RRULE:FREQ=YEARLY;BYDAY=2SU;BYMONTH=3
TZNAME:EDT
TZOFFSETFROM:-0500
TZOFFSETTO:-0400
END:DAYLIGHT
END:VTIMEZONE
BEGIN:VEVENT
DESCRIPTION:2019 Annual Meeting by the American Academy of Neurology\n\nTi
 tle: BrainDome\n\nDescription: Immerse yourself in the brain’s inner work
 ings with a guided audio-visual tour through a larger-than-life brain. \n
 \nLearn More About This Event: https://www.aan.com/msa/Public/Events/Deta
 ils/8262
DTEND;TZID=Eastern Standard Time:20190507T170000
DTSTAMP:20260424T054004Z
DTSTART;TZID=Eastern Standard Time:20190507T120000
LOCATION:https://www.aan.com/msa/Public/Events/GetEventURL/8262
SEQUENCE:0
SUMMARY:AAN: BrainDome
UID:3d037c9e-f926-4515-ac27-5ecc761f9896
END:VEVENT
END:VCALENDAR
