BEGIN:VCALENDAR
PRODID:-//github.com/rianjs/ical.net//NONSGML ical.net 4.0//EN
VERSION:2.0
BEGIN:VEVENT
DESCRIPTION:2006 Annual Meeting by the American Academy of Neurology\n\nTi
 tle: Epilepsy Surgery and Neuroimaging\n\nAccess URL: https://www.aan.com
 /msa/Public/Events/GetEventURL/827\n\nLearn More About This Event: https:
 //www.aan.com/msa/Public/Events/Details/827
DTEND:20060406T153000
DTSTAMP:20260424T122018Z
DTSTART:20060406T133000
LOCATION:https://www.aan.com/msa/Public/Events/GetEventURL/827
SEQUENCE:0
SUMMARY:AAN: Epilepsy Surgery and Neuroimaging
UID:c51d1deb-aa1e-41fa-b44b-25e8e8c377f6
END:VEVENT
END:VCALENDAR
