BEGIN:VCALENDAR
PRODID:-//github.com/rianjs/ical.net//NONSGML ical.net 4.0//EN
VERSION:2.0
BEGIN:VTIMEZONE
TZID:Eastern Standard Time
X-LIC-LOCATION:America/New_York
BEGIN:STANDARD
DTSTART:20241103T020000
RRULE:FREQ=YEARLY;BYDAY=1SU;BYMONTH=11
TZNAME:EST
TZOFFSETFROM:-0400
TZOFFSETTO:-0500
END:STANDARD
BEGIN:DAYLIGHT
DTSTART:20250309T020000
RRULE:FREQ=YEARLY;BYDAY=2SU;BYMONTH=3
TZNAME:EDT
TZOFFSETFROM:-0500
TZOFFSETTO:-0400
END:DAYLIGHT
END:VTIMEZONE
BEGIN:VEVENT
DESCRIPTION:2019 Annual Meeting by the American Academy of Neurology\n\nTi
 tle: Consortium of Neurology Advanced Practice Providers Meeting\n\nDescr
 iption: CNAPP is an event for APPs to learn about APP projects at the AAN
 \, provide input on 2020 priorities\, and congratulate the 2019 Annual Me
 eting APP Scholarship winners.\n\nLearn More About This Event: https://ww
 w.aan.com/msa/Public/Events/Details/8271
DTEND;TZID=Eastern Standard Time:20190508T090000
DTSTAMP:20260424T054038Z
DTSTART;TZID=Eastern Standard Time:20190508T080000
LOCATION:https://www.aan.com/msa/Public/Events/GetEventURL/8271
SEQUENCE:0
SUMMARY:AAN: Consortium of Neurology Advanced Practice Providers Meeting
UID:8d01948e-a454-4a9e-82dd-2b1ec64ead4d
END:VEVENT
END:VCALENDAR
