BEGIN:VCALENDAR
PRODID:-//github.com/rianjs/ical.net//NONSGML ical.net 4.0//EN
VERSION:2.0
BEGIN:VEVENT
DESCRIPTION:2006 Annual Meeting by the American Academy of Neurology\n\nTi
 tle: Neural Repair\n\nAccess URL: https://www.aan.com/msa/Public/Events/G
 etEventURL/828\n\nLearn More About This Event: https://www.aan.com/msa/Pu
 blic/Events/Details/828
DTEND:20060406T153000
DTSTAMP:20260424T122017Z
DTSTART:20060406T133000
LOCATION:https://www.aan.com/msa/Public/Events/GetEventURL/828
SEQUENCE:0
SUMMARY:AAN: Neural Repair
UID:0eac8f5e-f74a-4d6d-be7f-d3c6dd17f60e
END:VEVENT
END:VCALENDAR
