BEGIN:VCALENDAR
PRODID:-//github.com/rianjs/ical.net//NONSGML ical.net 4.0//EN
VERSION:2.0
BEGIN:VTIMEZONE
TZID:Eastern Standard Time
X-LIC-LOCATION:America/New_York
BEGIN:STANDARD
DTSTART:20241103T020000
RRULE:FREQ=YEARLY;BYDAY=1SU;BYMONTH=11
TZNAME:EST
TZOFFSETFROM:-0400
TZOFFSETTO:-0500
END:STANDARD
BEGIN:DAYLIGHT
DTSTART:20250309T020000
RRULE:FREQ=YEARLY;BYDAY=2SU;BYMONTH=3
TZNAME:EDT
TZOFFSETFROM:-0500
TZOFFSETTO:-0400
END:DAYLIGHT
END:VTIMEZONE
BEGIN:VEVENT
DESCRIPTION:2019 Annual Meeting by the American Academy of Neurology\n\nTi
 tle: Presentation of the Sheila Essey Award: An Award for ALS Research\n\
 nAccess URL: https://www.aan.com/msa/Public/Events/GetEventURL/8280\n\nLe
 arn More About This Event: https://www.aan.com/msa/Public/Events/Details/
 8280
DTEND;TZID=Eastern Standard Time:20190507T173000
DTSTAMP:20260424T053923Z
DTSTART;TZID=Eastern Standard Time:20190507T153000
LOCATION:https://www.aan.com/msa/Public/Events/GetEventURL/8280
SEQUENCE:0
SUMMARY:AAN: Presentation of the Sheila Essey Award: An Award for ALS Rese
 arch
UID:7b03960b-b216-4c15-97a2-c37c0a64caeb
END:VEVENT
END:VCALENDAR
