BEGIN:VCALENDAR
PRODID:-//github.com/rianjs/ical.net//NONSGML ical.net 4.0//EN
VERSION:2.0
BEGIN:VEVENT
DESCRIPTION:2006 Annual Meeting by the American Academy of Neurology\n\nTi
 tle: Critical Care\n\nAccess URL: https://www.aan.com/msa/Public/Events/G
 etEventURL/829\n\nLearn More About This Event: https://www.aan.com/msa/Pu
 blic/Events/Details/829
DTEND:20060406T153000
DTSTAMP:20260424T122020Z
DTSTART:20060406T133000
LOCATION:https://www.aan.com/msa/Public/Events/GetEventURL/829
SEQUENCE:0
SUMMARY:AAN: Critical Care
UID:27dd62e6-805f-4852-9479-3ed084c71c5c
END:VEVENT
END:VCALENDAR
