BEGIN:VCALENDAR
PRODID:-//github.com/rianjs/ical.net//NONSGML ical.net 4.0//EN
VERSION:2.0
BEGIN:VEVENT
DESCRIPTION:2016 Fall Conference by the American Academy of Neurology\n\nT
 itle: Comprehensive Headache Skills Workshop\n\nAccess URL: https://www.a
 an.com/msa/Public/Events/GetEventURL/83\n\nLearn More About This Event: h
 ttps://www.aan.com/msa/Public/Events/Details/83
DTEND:20161015T170000
DTSTAMP:20260424T053923Z
DTSTART:20161015T130000
LOCATION:https://www.aan.com/msa/Public/Events/GetEventURL/83
SEQUENCE:0
SUMMARY:AAN: Comprehensive Headache Skills Workshop
UID:e17f9278-c448-4cde-966f-1b1b96482aa2
END:VEVENT
END:VCALENDAR
