BEGIN:VCALENDAR
PRODID:-//github.com/rianjs/ical.net//NONSGML ical.net 4.0//EN
VERSION:2.0
BEGIN:VEVENT
DESCRIPTION:2006 Annual Meeting by the American Academy of Neurology\n\nTi
 tle: Child Neurology\n\nAccess URL: https://www.aan.com/msa/Public/Events
 /GetEventURL/830\n\nLearn More About This Event: https://www.aan.com/msa/
 Public/Events/Details/830
DTEND:20060406T153000
DTSTAMP:20260424T121919Z
DTSTART:20060406T133000
LOCATION:https://www.aan.com/msa/Public/Events/GetEventURL/830
SEQUENCE:0
SUMMARY:AAN: Child Neurology
UID:7d5f7661-c36d-4d14-8758-e037c76c22ba
END:VEVENT
END:VCALENDAR
