BEGIN:VCALENDAR
PRODID:-//github.com/rianjs/ical.net//NONSGML ical.net 4.0//EN
VERSION:2.0
BEGIN:VTIMEZONE
TZID:Eastern Standard Time
X-LIC-LOCATION:America/New_York
BEGIN:STANDARD
DTSTART:20241103T020000
RRULE:FREQ=YEARLY;BYDAY=1SU;BYMONTH=11
TZNAME:EST
TZOFFSETFROM:-0400
TZOFFSETTO:-0500
END:STANDARD
BEGIN:DAYLIGHT
DTSTART:20250309T020000
RRULE:FREQ=YEARLY;BYDAY=2SU;BYMONTH=3
TZNAME:EDT
TZOFFSETFROM:-0500
TZOFFSETTO:-0400
END:DAYLIGHT
END:VTIMEZONE
BEGIN:VEVENT
DESCRIPTION:2019 Annual Meeting by the American Academy of Neurology\n\nTi
 tle: Epilepsy Section Meeting\n\nDescription: section meeting - requestin
 g additional room that is not in the designated section meeting space. \n
 \nLearn More About This Event: https://www.aan.com/msa/Public/Events/Deta
 ils/8300
DTEND;TZID=Eastern Standard Time:20190506T183000
DTSTAMP:20260424T054034Z
DTSTART;TZID=Eastern Standard Time:20190506T173000
LOCATION:https://www.aan.com/msa/Public/Events/GetEventURL/8300
SEQUENCE:0
SUMMARY:AAN: Epilepsy Section Meeting
UID:200219ac-aa1b-41e5-89ec-86989b987f60
END:VEVENT
END:VCALENDAR
