BEGIN:VCALENDAR
PRODID:-//github.com/rianjs/ical.net//NONSGML ical.net 4.0//EN
VERSION:2.0
BEGIN:VEVENT
DESCRIPTION:2006 Annual Meeting by the American Academy of Neurology\n\nTi
 tle: Aging and Dementia: Genetics and Basic\n\nAccess URL: https://www.aa
 n.com/msa/Public/Events/GetEventURL/831\n\nLearn More About This Event: h
 ttps://www.aan.com/msa/Public/Events/Details/831
DTEND:20060406T170000
DTSTAMP:20260424T122117Z
DTSTART:20060406T154500
LOCATION:https://www.aan.com/msa/Public/Events/GetEventURL/831
SEQUENCE:0
SUMMARY:AAN: Aging and Dementia: Genetics and Basic
UID:96072872-d5e2-46dc-98cb-2af3d5c9731f
END:VEVENT
END:VCALENDAR
