BEGIN:VCALENDAR
PRODID:-//github.com/rianjs/ical.net//NONSGML ical.net 4.0//EN
VERSION:2.0
BEGIN:VTIMEZONE
TZID:Eastern Standard Time
X-LIC-LOCATION:America/New_York
BEGIN:STANDARD
DTSTART:20241103T020000
RRULE:FREQ=YEARLY;BYDAY=1SU;BYMONTH=11
TZNAME:EST
TZOFFSETFROM:-0400
TZOFFSETTO:-0500
END:STANDARD
BEGIN:DAYLIGHT
DTSTART:20250309T020000
RRULE:FREQ=YEARLY;BYDAY=2SU;BYMONTH=3
TZNAME:EDT
TZOFFSETFROM:-0500
TZOFFSETTO:-0400
END:DAYLIGHT
END:VTIMEZONE
BEGIN:VEVENT
DESCRIPTION:2019 Annual Meeting by the American Academy of Neurology\n\nTi
 tle: Neuroendocrinology Section Meeting\n\nDescription: section meeting 1
 03 A\n\nLearn More About This Event: https://www.aan.com/msa/Public/Event
 s/Details/8315
DTEND;TZID=Eastern Standard Time:20190507T150000
DTSTAMP:20260424T054139Z
DTSTART;TZID=Eastern Standard Time:20190507T140000
LOCATION:https://www.aan.com/msa/Public/Events/GetEventURL/8315
SEQUENCE:0
SUMMARY:AAN: Neuroendocrinology Section Meeting
UID:956a0917-a48e-4e8e-be7b-d9e5569a6826
END:VEVENT
END:VCALENDAR
