BEGIN:VCALENDAR
PRODID:-//github.com/rianjs/ical.net//NONSGML ical.net 4.0//EN
VERSION:2.0
BEGIN:VEVENT
DESCRIPTION:2006 Annual Meeting by the American Academy of Neurology\n\nTi
 tle: Multiple Sclerosis: Clinical Outcomes\n\nAccess URL: https://www.aan
 .com/msa/Public/Events/GetEventURL/832\n\nLearn More About This Event: ht
 tps://www.aan.com/msa/Public/Events/Details/832
DTEND:20060406T170000
DTSTAMP:20260424T121915Z
DTSTART:20060406T154500
LOCATION:https://www.aan.com/msa/Public/Events/GetEventURL/832
SEQUENCE:0
SUMMARY:AAN: Multiple Sclerosis: Clinical Outcomes
UID:8f8fefc5-a4c6-423c-8847-b9430b33ac6a
END:VEVENT
END:VCALENDAR
