BEGIN:VCALENDAR
PRODID:-//github.com/rianjs/ical.net//NONSGML ical.net 4.0//EN
VERSION:2.0
BEGIN:VEVENT
DESCRIPTION:2006 Annual Meeting by the American Academy of Neurology\n\nTi
 tle: Parkinson's Disease: Epidemiology\n\nAccess URL: https://www.aan.com
 /msa/Public/Events/GetEventURL/833\n\nLearn More About This Event: https:
 //www.aan.com/msa/Public/Events/Details/833
DTEND:20060406T170000
DTSTAMP:20260424T122020Z
DTSTART:20060406T154500
LOCATION:https://www.aan.com/msa/Public/Events/GetEventURL/833
SEQUENCE:0
SUMMARY:AAN: Parkinson's Disease: Epidemiology
UID:8033f8e7-1d6a-4e48-815d-d84e0a3b3b07
END:VEVENT
END:VCALENDAR
