BEGIN:VCALENDAR
PRODID:-//github.com/rianjs/ical.net//NONSGML ical.net 4.0//EN
VERSION:2.0
BEGIN:VEVENT
DESCRIPTION:2006 Annual Meeting by the American Academy of Neurology\n\nTi
 tle: Uncommon Causes of Stroke\n\nAccess URL: https://www.aan.com/msa/Pub
 lic/Events/GetEventURL/834\n\nLearn More About This Event: https://www.aa
 n.com/msa/Public/Events/Details/834
DTEND:20060406T170000
DTSTAMP:20260424T122035Z
DTSTART:20060406T154500
LOCATION:https://www.aan.com/msa/Public/Events/GetEventURL/834
SEQUENCE:0
SUMMARY:AAN: Uncommon Causes of Stroke
UID:7532afad-dcc9-4b2d-9943-a83d067dcb53
END:VEVENT
END:VCALENDAR
