BEGIN:VCALENDAR
PRODID:-//github.com/rianjs/ical.net//NONSGML ical.net 4.0//EN
VERSION:2.0
BEGIN:VEVENT
DESCRIPTION:2006 Annual Meeting by the American Academy of Neurology\n\nTi
 tle: Headache: Genetics\, Risk Factors\, and Comorbidity\n\nAccess URL: h
 ttps://www.aan.com/msa/Public/Events/GetEventURL/835\n\nLearn More About 
 This Event: https://www.aan.com/msa/Public/Events/Details/835
DTEND:20060406T170000
DTSTAMP:20260424T122114Z
DTSTART:20060406T154500
LOCATION:https://www.aan.com/msa/Public/Events/GetEventURL/835
SEQUENCE:0
SUMMARY:AAN: Headache: Genetics\, Risk Factors\, and Comorbidity
UID:d4695c6e-36e1-4fe5-942f-f3380d2e93e9
END:VEVENT
END:VCALENDAR
