BEGIN:VCALENDAR
PRODID:-//github.com/rianjs/ical.net//NONSGML ical.net 4.0//EN
VERSION:2.0
BEGIN:VEVENT
DESCRIPTION:2006 Annual Meeting by the American Academy of Neurology\n\nTi
 tle: Anterior Horn: Biomarkers and Novel Therapies\n\nAccess URL: https:/
 /www.aan.com/msa/Public/Events/GetEventURL/836\n\nLearn More About This E
 vent: https://www.aan.com/msa/Public/Events/Details/836
DTEND:20060406T170000
DTSTAMP:20260424T122032Z
DTSTART:20060406T154500
LOCATION:https://www.aan.com/msa/Public/Events/GetEventURL/836
SEQUENCE:0
SUMMARY:AAN: Anterior Horn: Biomarkers and Novel Therapies
UID:5c2e37ab-6f01-4982-a6c1-b3f3a81fe542
END:VEVENT
END:VCALENDAR
