BEGIN:VCALENDAR
PRODID:-//github.com/rianjs/ical.net//NONSGML ical.net 4.0//EN
VERSION:2.0
BEGIN:VEVENT
DESCRIPTION:2006 Annual Meeting by the American Academy of Neurology\n\nTi
 tle: Clinical Epilepsy\n\nAccess URL: https://www.aan.com/msa/Public/Even
 ts/GetEventURL/837\n\nLearn More About This Event: https://www.aan.com/ms
 a/Public/Events/Details/837
DTEND:20060406T170000
DTSTAMP:20260424T122032Z
DTSTART:20060406T154500
LOCATION:https://www.aan.com/msa/Public/Events/GetEventURL/837
SEQUENCE:0
SUMMARY:AAN: Clinical Epilepsy
UID:ac2686a5-fe09-46a8-9743-0ef58d9a56ff
END:VEVENT
END:VCALENDAR
