BEGIN:VCALENDAR
PRODID:-//github.com/rianjs/ical.net//NONSGML ical.net 4.0//EN
VERSION:2.0
BEGIN:VEVENT
DESCRIPTION:2006 Annual Meeting by the American Academy of Neurology\n\nTi
 tle: CNS Infections\n\nAccess URL: https://www.aan.com/msa/Public/Events/
 GetEventURL/839\n\nLearn More About This Event: https://www.aan.com/msa/P
 ublic/Events/Details/839
DTEND:20060406T170000
DTSTAMP:20260424T122117Z
DTSTART:20060406T154500
LOCATION:https://www.aan.com/msa/Public/Events/GetEventURL/839
SEQUENCE:0
SUMMARY:AAN: CNS Infections
UID:e08451a9-e96a-4549-b4b1-80769ee64154
END:VEVENT
END:VCALENDAR
