BEGIN:VCALENDAR
PRODID:-//github.com/rianjs/ical.net//NONSGML ical.net 4.0//EN
VERSION:2.0
BEGIN:VEVENT
DESCRIPTION:2016 Fall Conference by the American Academy of Neurology\n\nT
 itle: Challenges of Leadership in Practice\n\nAccess URL: https://www.aan
 .com/msa/Public/Events/GetEventURL/84\n\nLearn More About This Event: htt
 ps://www.aan.com/msa/Public/Events/Details/84
DTEND:20161015T170000
DTSTAMP:20260424T053900Z
DTSTART:20161015T130000
LOCATION:https://www.aan.com/msa/Public/Events/GetEventURL/84
SEQUENCE:0
SUMMARY:AAN: Challenges of Leadership in Practice
UID:c0acbb4d-fddd-4953-a058-c6f585093625
END:VEVENT
END:VCALENDAR
