BEGIN:VCALENDAR
PRODID:-//github.com/rianjs/ical.net//NONSGML ical.net 4.0//EN
VERSION:2.0
BEGIN:VEVENT
DESCRIPTION:2006 Annual Meeting by the American Academy of Neurology\n\nTi
 tle: Behavioral Neurology: Language/ Praxis\n\nAccess URL: https://www.aa
 n.com/msa/Public/Events/GetEventURL/840\n\nLearn More About This Event: h
 ttps://www.aan.com/msa/Public/Events/Details/840
DTEND:20060406T170000
DTSTAMP:20260424T122035Z
DTSTART:20060406T154500
LOCATION:https://www.aan.com/msa/Public/Events/GetEventURL/840
SEQUENCE:0
SUMMARY:AAN: Behavioral Neurology: Language/ Praxis
UID:1afaae44-a003-48a0-b7d9-560a6a8e3ead
END:VEVENT
END:VCALENDAR
