BEGIN:VCALENDAR
PRODID:-//github.com/rianjs/ical.net//NONSGML ical.net 4.0//EN
VERSION:2.0
BEGIN:VTIMEZONE
TZID:Eastern Standard Time
X-LIC-LOCATION:America/New_York
BEGIN:STANDARD
DTSTART:20241103T020000
RRULE:FREQ=YEARLY;BYDAY=1SU;BYMONTH=11
TZNAME:EST
TZOFFSETFROM:-0400
TZOFFSETTO:-0500
END:STANDARD
BEGIN:DAYLIGHT
DTSTART:20250309T020000
RRULE:FREQ=YEARLY;BYDAY=2SU;BYMONTH=3
TZNAME:EDT
TZOFFSETFROM:-0500
TZOFFSETTO:-0400
END:DAYLIGHT
END:VTIMEZONE
BEGIN:VEVENT
DESCRIPTION:2019 Annual Meeting by the American Academy of Neurology\n\nTi
 tle: Behavioral Neurology Section Meeting\n\nDescription: Section Meeting
 \; Room 103 A\n\nLearn More About This Event: https://www.aan.com/msa/Pub
 lic/Events/Details/8429
DTEND;TZID=Eastern Standard Time:20190508T183000
DTSTAMP:20260424T053923Z
DTSTART;TZID=Eastern Standard Time:20190508T173000
LOCATION:https://www.aan.com/msa/Public/Events/GetEventURL/8429
SEQUENCE:0
SUMMARY:AAN: Behavioral Neurology Section Meeting
UID:3b746542-fa40-432d-a8ec-f2a2ae8f9d12
END:VEVENT
END:VCALENDAR
