BEGIN:VCALENDAR
PRODID:-//github.com/rianjs/ical.net//NONSGML ical.net 4.0//EN
VERSION:2.0
BEGIN:VEVENT
DESCRIPTION:2006 Annual Meeting by the American Academy of Neurology\n\nTi
 tle: Poster Session 05\n\nAccess URL: https://www.aan.com/msa/Public/Even
 ts/GetEventURL/843\n\nLearn More About This Event: https://www.aan.com/ms
 a/Public/Events/Details/843
DTEND:20060406T120000
DTSTAMP:20260424T122020Z
DTSTART:20060406T073000
LOCATION:https://www.aan.com/msa/Public/Events/GetEventURL/843
SEQUENCE:0
SUMMARY:AAN: Poster Session 05
UID:015a3be5-f6f3-4243-b45f-d3197517747b
END:VEVENT
END:VCALENDAR
