BEGIN:VCALENDAR
PRODID:-//github.com/rianjs/ical.net//NONSGML ical.net 4.0//EN
VERSION:2.0
BEGIN:VEVENT
DESCRIPTION:2006 Annual Meeting by the American Academy of Neurology\n\nTi
 tle: Poster Session 02\n\nAccess URL: https://www.aan.com/msa/Public/Even
 ts/GetEventURL/844\n\nLearn More About This Event: https://www.aan.com/ms
 a/Public/Events/Details/844
DTEND:20060404T193000
DTSTAMP:20260424T122113Z
DTSTART:20060404T150000
LOCATION:https://www.aan.com/msa/Public/Events/GetEventURL/844
SEQUENCE:0
SUMMARY:AAN: Poster Session 02
UID:8d02e301-1439-4866-b5ba-6b31d8951c1c
END:VEVENT
END:VCALENDAR
