BEGIN:VCALENDAR
PRODID:-//github.com/rianjs/ical.net//NONSGML ical.net 4.0//EN
VERSION:2.0
BEGIN:VEVENT
DESCRIPTION:2006 Annual Meeting by the American Academy of Neurology\n\nTi
 tle: Poster Session 06\n\nAccess URL: https://www.aan.com/msa/Public/Even
 ts/GetEventURL/845\n\nLearn More About This Event: https://www.aan.com/ms
 a/Public/Events/Details/845
DTEND:20060406T190000
DTSTAMP:20260424T122017Z
DTSTART:20060406T150000
LOCATION:https://www.aan.com/msa/Public/Events/GetEventURL/845
SEQUENCE:0
SUMMARY:AAN: Poster Session 06
UID:8c5b05f9-a776-4b88-9340-95119ebebd38
END:VEVENT
END:VCALENDAR
