BEGIN:VCALENDAR
PRODID:-//github.com/rianjs/ical.net//NONSGML ical.net 4.0//EN
VERSION:2.0
BEGIN:VTIMEZONE
TZID:Eastern Standard Time
X-LIC-LOCATION:America/New_York
BEGIN:STANDARD
DTSTART:20241103T020000
RRULE:FREQ=YEARLY;BYDAY=1SU;BYMONTH=11
TZNAME:EST
TZOFFSETFROM:-0400
TZOFFSETTO:-0500
END:STANDARD
BEGIN:DAYLIGHT
DTSTART:20250309T020000
RRULE:FREQ=YEARLY;BYDAY=2SU;BYMONTH=3
TZNAME:EDT
TZOFFSETFROM:-0500
TZOFFSETTO:-0400
END:DAYLIGHT
END:VTIMEZONE
BEGIN:VEVENT
DESCRIPTION:2019 Annual Meeting by the American Academy of Neurology\n\nTi
 tle: Enhancing Well-being Through Appreciative Inquiry\n\nAccess URL: htt
 ps://www.aan.com/msa/Public/Events/GetEventURL/8474\n\nLearn More About T
 his Event: https://www.aan.com/msa/Public/Events/Details/8474
DTEND;TZID=Eastern Standard Time:20190510T084500
DTSTAMP:20260424T054059Z
DTSTART;TZID=Eastern Standard Time:20190510T080000
LOCATION:https://www.aan.com/msa/Public/Events/GetEventURL/8474
SEQUENCE:0
SUMMARY:AAN: Enhancing Well-being Through Appreciative Inquiry
UID:d983973d-29f6-405d-b255-d500a3f3200e
END:VEVENT
END:VCALENDAR
