BEGIN:VCALENDAR
PRODID:-//github.com/rianjs/ical.net//NONSGML ical.net 4.0//EN
VERSION:2.0
BEGIN:VTIMEZONE
TZID:Eastern Standard Time
X-LIC-LOCATION:America/New_York
BEGIN:STANDARD
DTSTART:20241103T020000
RRULE:FREQ=YEARLY;BYDAY=1SU;BYMONTH=11
TZNAME:EST
TZOFFSETFROM:-0400
TZOFFSETTO:-0500
END:STANDARD
BEGIN:DAYLIGHT
DTSTART:20250309T020000
RRULE:FREQ=YEARLY;BYDAY=2SU;BYMONTH=3
TZNAME:EDT
TZOFFSETFROM:-0500
TZOFFSETTO:-0400
END:DAYLIGHT
END:VTIMEZONE
BEGIN:VEVENT
DESCRIPTION:2019 Annual Meeting by the American Academy of Neurology\n\nTi
 tle: Almuerzo con Colegas: Perlas clínicas/ solicitando una residencia o 
 subespecialidad en neurología\n\nAccess URL: https://www.aan.com/msa/Publ
 ic/Events/GetEventURL/8478\n\nLearn More About This Event: https://www.aa
 n.com/msa/Public/Events/Details/8478
DTEND;TZID=Eastern Standard Time:20190505T124500
DTSTAMP:20260424T054038Z
DTSTART;TZID=Eastern Standard Time:20190505T120000
LOCATION:https://www.aan.com/msa/Public/Events/GetEventURL/8478
SEQUENCE:0
SUMMARY:AAN: Almuerzo con Colegas: Perlas clínicas/ solicitando una reside
 ncia o subespecialidad en neurología
UID:8231775b-d042-470e-88a0-59094438a158
END:VEVENT
END:VCALENDAR
