BEGIN:VCALENDAR
PRODID:-//github.com/rianjs/ical.net//NONSGML ical.net 4.0//EN
VERSION:2.0
BEGIN:VEVENT
DESCRIPTION:2006 Annual Meeting by the American Academy of Neurology\n\nTi
 tle: Neuro-Ophthalmology/Neuro-Otology\n\nAccess URL: https://www.aan.com
 /msa/Public/Events/GetEventURL/848\n\nLearn More About This Event: https:
 //www.aan.com/msa/Public/Events/Details/848
DTEND:20060403T173000
DTSTAMP:20260424T122021Z
DTSTART:20060403T130000
LOCATION:https://www.aan.com/msa/Public/Events/GetEventURL/848
SEQUENCE:0
SUMMARY:AAN: Neuro-Ophthalmology/Neuro-Otology
UID:3a333154-adb8-48d4-9b54-d19b2f033fd3
END:VEVENT
END:VCALENDAR
