BEGIN:VCALENDAR
PRODID:-//github.com/rianjs/ical.net//NONSGML ical.net 4.0//EN
VERSION:2.0
BEGIN:VEVENT
DESCRIPTION:2006 Annual Meeting by the American Academy of Neurology\n\nTi
 tle: Neuro-Oncology\n\nAccess URL: https://www.aan.com/msa/Public/Events/
 GetEventURL/849\n\nLearn More About This Event: https://www.aan.com/msa/P
 ublic/Events/Details/849
DTEND:20060407T173000
DTSTAMP:20260424T122151Z
DTSTART:20060407T130000
LOCATION:https://www.aan.com/msa/Public/Events/GetEventURL/849
SEQUENCE:0
SUMMARY:AAN: Neuro-Oncology
UID:c237d09d-81ee-409a-a398-926dd6433ba4
END:VEVENT
END:VCALENDAR
