BEGIN:VCALENDAR
PRODID:-//github.com/rianjs/ical.net//NONSGML ical.net 4.0//EN
VERSION:2.0
BEGIN:VTIMEZONE
TZID:Eastern Standard Time
X-LIC-LOCATION:America/New_York
BEGIN:STANDARD
DTSTART:20241103T020000
RRULE:FREQ=YEARLY;BYDAY=1SU;BYMONTH=11
TZNAME:EST
TZOFFSETFROM:-0400
TZOFFSETTO:-0500
END:STANDARD
BEGIN:DAYLIGHT
DTSTART:20250309T020000
RRULE:FREQ=YEARLY;BYDAY=2SU;BYMONTH=3
TZNAME:EDT
TZOFFSETFROM:-0500
TZOFFSETTO:-0400
END:DAYLIGHT
END:VTIMEZONE
BEGIN:VEVENT
DESCRIPTION:2019 Annual Meeting by the American Academy of Neurology\n\nTi
 tle: Emory University Neurology Networking Social \n\nDescription: The Em
 ory School of Medicine Department of Neurology would like to invite Neuro
 logists\, Fellows\, and trainees to a social networking hour to learn mor
 e about our training programs and employment opportunities. The vascular 
 neurology fellowship in particular will be highlighted as well as opportu
 nities in vascular neurology\, outpatient neurology\, and various sub spe
 cialties. \n\nLearn More About This Event: https://www.aan.com/msa/Public
 /Events/Details/8491
DTEND;TZID=Eastern Standard Time:20190506T190000
DTSTAMP:20260424T054002Z
DTSTART;TZID=Eastern Standard Time:20190506T170000
LOCATION:https://www.aan.com/msa/Public/Events/GetEventURL/8491
SEQUENCE:0
SUMMARY:AAN: Emory University Neurology Networking Social
UID:e737d894-4870-40d6-bf4d-ca1dc7c12f2b
END:VEVENT
END:VCALENDAR
