BEGIN:VCALENDAR
PRODID:-//github.com/rianjs/ical.net//NONSGML ical.net 4.0//EN
VERSION:2.0
BEGIN:VEVENT
DESCRIPTION:2006 Annual Meeting by the American Academy of Neurology\n\nTi
 tle: History\n\nAccess URL: https://www.aan.com/msa/Public/Events/GetEven
 tURL/850\n\nLearn More About This Event: https://www.aan.com/msa/Public/E
 vents/Details/850
DTEND:20060405T160000
DTSTAMP:20260424T121919Z
DTSTART:20060405T140000
LOCATION:https://www.aan.com/msa/Public/Events/GetEventURL/850
SEQUENCE:0
SUMMARY:AAN: History
UID:b41aba68-0ed0-454e-b59b-5804aa9c1957
END:VEVENT
END:VCALENDAR
