BEGIN:VCALENDAR
PRODID:-//github.com/rianjs/ical.net//NONSGML ical.net 4.0//EN
VERSION:2.0
BEGIN:VEVENT
DESCRIPTION:2006 Annual Meeting by the American Academy of Neurology\n\nTi
 tle: Genetics of Motor Neuron Disease\n\nAccess URL: https://www.aan.com/
 msa/Public/Events/GetEventURL/851\n\nLearn More About This Event: https:/
 /www.aan.com/msa/Public/Events/Details/851
DTEND:20060405T153000
DTSTAMP:20260424T122151Z
DTSTART:20060405T140000
LOCATION:https://www.aan.com/msa/Public/Events/GetEventURL/851
SEQUENCE:0
SUMMARY:AAN: Genetics of Motor Neuron Disease
UID:dab2b63e-0a90-4762-b8f3-b91e6394fc90
END:VEVENT
END:VCALENDAR
