BEGIN:VCALENDAR
PRODID:-//github.com/rianjs/ical.net//NONSGML ical.net 4.0//EN
VERSION:2.0
BEGIN:VEVENT
DESCRIPTION:2006 Annual Meeting by the American Academy of Neurology\n\nTi
 tle: Genetics of Movement Disorders\n\nAccess URL: https://www.aan.com/ms
 a/Public/Events/GetEventURL/852\n\nLearn More About This Event: https://w
 ww.aan.com/msa/Public/Events/Details/852
DTEND:20060406T153000
DTSTAMP:20260424T122034Z
DTSTART:20060406T133000
LOCATION:https://www.aan.com/msa/Public/Events/GetEventURL/852
SEQUENCE:0
SUMMARY:AAN: Genetics of Movement Disorders
UID:b2244548-40bf-42af-b14f-f133dba8c70e
END:VEVENT
END:VCALENDAR
