BEGIN:VCALENDAR
PRODID:-//github.com/rianjs/ical.net//NONSGML ical.net 4.0//EN
VERSION:2.0
BEGIN:VTIMEZONE
TZID:Eastern Standard Time
X-LIC-LOCATION:America/New_York
BEGIN:STANDARD
DTSTART:20241103T020000
RRULE:FREQ=YEARLY;BYDAY=1SU;BYMONTH=11
TZNAME:EST
TZOFFSETFROM:-0400
TZOFFSETTO:-0500
END:STANDARD
BEGIN:DAYLIGHT
DTSTART:20250309T020000
RRULE:FREQ=YEARLY;BYDAY=2SU;BYMONTH=3
TZNAME:EDT
TZOFFSETFROM:-0500
TZOFFSETTO:-0400
END:DAYLIGHT
END:VTIMEZONE
BEGIN:VEVENT
DESCRIPTION:2019 Annual Meeting by the American Academy of Neurology\n\nTi
 tle: University of Chicago Alumni Reception\n\nDescription: This is a Uni
 versity of Chicago Alumni Reception.\n\nLearn More About This Event: http
 s://www.aan.com/msa/Public/Events/Details/8546
DTEND;TZID=Eastern Standard Time:20190507T193000
DTSTAMP:20260424T053921Z
DTSTART;TZID=Eastern Standard Time:20190507T180000
LOCATION:https://www.aan.com/msa/Public/Events/GetEventURL/8546
SEQUENCE:0
SUMMARY:AAN: University of Chicago Alumni Reception
UID:94b5f6bc-6978-4220-b5f9-3ae055b8a71b
END:VEVENT
END:VCALENDAR
