BEGIN:VCALENDAR
PRODID:-//github.com/rianjs/ical.net//NONSGML ical.net 4.0//EN
VERSION:2.0
BEGIN:VEVENT
DESCRIPTION:2006 Annual Meeting by the American Academy of Neurology\n\nTi
 tle: Movement Disorders Scientific Topic Highlights\n\nAccess URL: https:
 //www.aan.com/msa/Public/Events/GetEventURL/855\n\nLearn More About This 
 Event: https://www.aan.com/msa/Public/Events/Details/855
DTEND:20060406T190000
DTSTAMP:20260424T121901Z
DTSTART:20060406T180000
LOCATION:https://www.aan.com/msa/Public/Events/GetEventURL/855
SEQUENCE:0
SUMMARY:AAN: Movement Disorders Scientific Topic Highlights
UID:b7448a62-f0eb-43ed-98c2-faedd7884098
END:VEVENT
END:VCALENDAR
