BEGIN:VCALENDAR
PRODID:-//github.com/rianjs/ical.net//NONSGML ical.net 4.0//EN
VERSION:2.0
BEGIN:VEVENT
DESCRIPTION:2006 Annual Meeting by the American Academy of Neurology\n\nTi
 tle: Multiple Sclerosis Scientific Topic Highlights\n\nAccess URL: https:
 //www.aan.com/msa/Public/Events/GetEventURL/857\n\nLearn More About This 
 Event: https://www.aan.com/msa/Public/Events/Details/857
DTEND:20060406T200000
DTSTAMP:20260424T122153Z
DTSTART:20060406T190000
LOCATION:https://www.aan.com/msa/Public/Events/GetEventURL/857
SEQUENCE:0
SUMMARY:AAN: Multiple Sclerosis Scientific Topic Highlights
UID:ced54992-dc63-4d40-8ba7-5989cadc7b2e
END:VEVENT
END:VCALENDAR
