BEGIN:VCALENDAR
PRODID:-//github.com/rianjs/ical.net//NONSGML ical.net 4.0//EN
VERSION:2.0
BEGIN:VEVENT
DESCRIPTION:2006 Annual Meeting by the American Academy of Neurology\n\nTi
 tle: Dementia/Behavioral Neurology Scientific Topic Highlights\n\nAccess 
 URL: https://www.aan.com/msa/Public/Events/GetEventURL/858\n\nLearn More 
 About This Event: https://www.aan.com/msa/Public/Events/Details/858
DTEND:20060406T200000
DTSTAMP:20260424T122153Z
DTSTART:20060406T190000
LOCATION:https://www.aan.com/msa/Public/Events/GetEventURL/858
SEQUENCE:0
SUMMARY:AAN: Dementia/Behavioral Neurology Scientific Topic Highlights
UID:36a27100-8148-4e0e-a18a-fe1d4f42578b
END:VEVENT
END:VCALENDAR
