BEGIN:VCALENDAR
PRODID:-//github.com/rianjs/ical.net//NONSGML ical.net 4.0//EN
VERSION:2.0
BEGIN:VTIMEZONE
TZID:Eastern Standard Time
X-LIC-LOCATION:America/New_York
BEGIN:STANDARD
DTSTART:20241103T020000
RRULE:FREQ=YEARLY;BYDAY=1SU;BYMONTH=11
TZNAME:EST
TZOFFSETFROM:-0400
TZOFFSETTO:-0500
END:STANDARD
BEGIN:DAYLIGHT
DTSTART:20250309T020000
RRULE:FREQ=YEARLY;BYDAY=2SU;BYMONTH=3
TZNAME:EDT
TZOFFSETFROM:-0500
TZOFFSETTO:-0400
END:DAYLIGHT
END:VTIMEZONE
BEGIN:VEVENT
DESCRIPTION:2019 Annual Meeting by the American Academy of Neurology\n\nTi
 tle: Adult with Intellectual & Developmental Disabilities (IDD) Section M
 eeting\n\nDescription: section meeting\n\nLearn More About This Event: ht
 tps://www.aan.com/msa/Public/Events/Details/8580
DTEND;TZID=Eastern Standard Time:20190504T130000
DTSTAMP:20260424T053923Z
DTSTART;TZID=Eastern Standard Time:20190504T120000
LOCATION:https://www.aan.com/msa/Public/Events/GetEventURL/8580
SEQUENCE:0
SUMMARY:AAN: Adult with Intellectual & Developmental Disabilities (IDD) Se
 ction Meeting
UID:89c12389-5566-4856-ad6d-54dc35451241
END:VEVENT
END:VCALENDAR
