BEGIN:VCALENDAR
PRODID:-//github.com/rianjs/ical.net//NONSGML ical.net 4.0//EN
VERSION:2.0
BEGIN:VEVENT
DESCRIPTION:2016 Fall Conference by the American Academy of Neurology\n\nT
 itle: Maintenance of Certification Information Session\n\nAccess URL: htt
 ps://www.aan.com/msa/Public/Events/GetEventURL/86\n\nLearn More About Thi
 s Event: https://www.aan.com/msa/Public/Events/Details/86
DTEND:20161015T181500
DTSTAMP:20260424T053926Z
DTSTART:20161015T171500
LOCATION:https://www.aan.com/msa/Public/Events/GetEventURL/86
SEQUENCE:0
SUMMARY:AAN: Maintenance of Certification Information Session
UID:0d750a85-c4d0-41f9-8aa3-afd2bd969887
END:VEVENT
END:VCALENDAR
