BEGIN:VCALENDAR
PRODID:-//github.com/rianjs/ical.net//NONSGML ical.net 4.0//EN
VERSION:2.0
BEGIN:VEVENT
DESCRIPTION:2006 Annual Meeting by the American Academy of Neurology\n\nTi
 tle: Hot Topics Plenary Session\n\nAccess URL: https://www.aan.com/msa/Pu
 blic/Events/GetEventURL/861\n\nLearn More About This Event: https://www.a
 an.com/msa/Public/Events/Details/861
DTEND:20060404T181500
DTSTAMP:20260424T122020Z
DTSTART:20060404T171500
LOCATION:https://www.aan.com/msa/Public/Events/GetEventURL/861
SEQUENCE:0
SUMMARY:AAN: Hot Topics Plenary Session
UID:eaa683ef-0174-4545-848a-39e74d4273af
END:VEVENT
END:VCALENDAR
