BEGIN:VCALENDAR
PRODID:-//github.com/rianjs/ical.net//NONSGML ical.net 4.0//EN
VERSION:2.0
BEGIN:VEVENT
DESCRIPTION:2006 Annual Meeting by the American Academy of Neurology\n\nTi
 tle: Frontiers in Clinical Neuroscience Plenary Session\n\nAccess URL: ht
 tps://www.aan.com/msa/Public/Events/GetEventURL/863\n\nLearn More About T
 his Event: https://www.aan.com/msa/Public/Events/Details/863
DTEND:20060406T110000
DTSTAMP:20260424T121916Z
DTSTART:20060406T090000
LOCATION:https://www.aan.com/msa/Public/Events/GetEventURL/863
SEQUENCE:0
SUMMARY:AAN: Frontiers in Clinical Neuroscience Plenary Session
UID:82d3bada-7edf-485d-ae20-3415df01024b
END:VEVENT
END:VCALENDAR
